BEGIN:VCALENDAR
VERSION:2.0
PRODID:-//Volt Europa//Events//EN
CALSCALE:GREGORIAN
METHOD:PUBLISH
BEGIN:VEVENT
UID:karlovolti-vary-prijd-nas-poznat-1726315200@voltcesko.org
DTSTAMP:20260423T232004Z
DTSTART;TZID=Europe/Prague:20240914T140000
DTEND;TZID=Europe/Prague:20240914T220000
SUMMARY:KarloVoltí Vary: Přijď nás poznat!
DESCRIPTION:Členové Voltu z různých koutů Česka\, Bavorka i Saska se 
 sjedou na setkání\, které pořádáme  v sobotu 14. září  v Karlovýc
 h Varech  od 14 hodin . Projdeme se městem\, podíváme se na věci\, kter
 é se daří\, i na to\, co bychom chtěli zlepšit.  Procházka začíná 
  ve 14 hodin u Letního kina  ( Slovenská 2003/2a\, 360 01 Karlovy Vary ) 
   a půjdeme po zastávkách Císařské lázně\, Vřídlo\, hotel Thermal
 \, Lázně 5 (Alžbětiny lázně)\, pauza v  Pivotéce Beer & Láska \, N
 plavka\, Pivovar. Poté se přesuneme do restaurace
LOCATION:Karlovy Vary
URL:https://voltcesko.org/karlovarsky/akce/karlovolti-vary-prijd-nas-poznat
END:VEVENT
END:VCALENDAR
