BEGIN:VCALENDAR
VERSION:2.0
PRODID:-//Volt Europa//Events//EN
CALSCALE:GREGORIAN
METHOD:PUBLISH
BEGIN:VEVENT
UID:volt-praha-meet-greet-2026-2-1772211600@voltcesko.org
DTSTAMP:20260423T124605Z
DTSTART;TZID=Europe/Prague:20260227T180000
DTEND;TZID=Europe/Prague:20260227T220000
SUMMARY:Volt Praha: Meet & Greet
DESCRIPTION:U Vystřelenýho Oka možná není pro každého\, ale je to tr
 adiční hospoda s příběhem. Hospoda\, kde stále sedíte s cizími lidm
 i u velkých stolů a kde se schází všechny vrstvy společnosti\, a vše
 chny generace. Je to hospoda\, kam chodili a chodí aktéři revoluce. Byla
  navržená Martinem Velíškem s tématikou husitů a Žižkova.  Přijďt
 e se setkat s lidmi z Voltu a popovídat si o našich plánech na tento rok
 .
LOCATION:U Vystřelenýho Oka
URL:https://voltcesko.org/akce/volt-praha-meet-greet-2026-2
END:VEVENT
END:VCALENDAR
