BEGIN:VCALENDAR
VERSION:2.0
PRODID:-//Volt Europa//Events//EN
CALSCALE:GREGORIAN
METHOD:PUBLISH
BEGIN:VEVENT
UID:rusko-musi-prohrat-1771952400@voltcesko.org
DTSTAMP:20260423T124103Z
DTSTART;TZID=Europe/Prague:20260224T180000
DTEND;TZID=Europe/Prague:20260224T190000
SUMMARY:Rusko musí prohrát
DESCRIPTION:Už čtyři roky vede Rusko plnou válku proti Ukrajině. Putin
  je zodpovědný za smrt a zranění statisíců Ukrajinců a miliony uprch
 líků. Za každým tímto číslem se skrývá zmařený lidský život\, 
 rozbitá rodina a nepopsatelná bolest matek a otců\, kteří přišli o s
 vé děti. Zároveň poslal na smrt nebo do invalidity přes milion ruskýc
 h vojáků. Je hluboce tragické\, kolik životů bylo obětováno pro moce
 nské ambice jednoho muže – životů lidí\, kteří mohli budovat své 
 domovy\, místo aby umírali v nesmyslném konflik
LOCATION:Ruská ambasáda v Praze
URL:https://voltcesko.org/akce/rusko-musi-prohrat
END:VEVENT
END:VCALENDAR
