BEGIN:VCALENDAR
VERSION:2.0
PRODID:-//Volt Europa//Events//EN
CALSCALE:GREGORIAN
METHOD:PUBLISH
BEGIN:VEVENT
UID:panelova-diskuse-o-roli-ceska-v-evrope-1774630800@voltcesko.org
DTSTAMP:20260425T020759Z
DTSTART;TZID=Europe/Prague:20260327T180000
DTEND;TZID=Europe/Prague:20260327T193000
SUMMARY:Panelová diskuse o roli Česka v Evropě
DESCRIPTION:Podpora silnější Evropy je dnes napříč kontinentem na rek
 ordní úrovni. Přesto národní lídři váhají udělat další krok k h
 lubší integraci. Chceme Evropu\, která chrání své občany. Chceme Evr
 opu\, která hájí demokracii a mezinárodní řád. Chceme Evropu respekt
 ovanou jako geopolitického aktéra se společnou zahraniční politikou v
 ech 27 členských států. Proto je potřeba diskutovat o skutečném evr
 opském leadershipu a o tom\, jak se posunout dál. Přijďte na panelovou 
 diskusi o roli Česka v Evropě. Máme usi
LOCATION:Restaurace Střecha\, Křemencova 186/7\, Praha 1
URL:https://voltcesko.org/akce/panelova-diskuse-o-roli-ceska-v-evrope
END:VEVENT
END:VCALENDAR
