BEGIN:VCALENDAR
VERSION:2.0
PRODID:-//Volt Europa//Events//EN
CALSCALE:GREGORIAN
METHOD:PUBLISH
BEGIN:VEVENT
UID:evropo-belgie-branme-se-makerussiapay-1764869400@voltcesko.org
DTSTAMP:20260423T231717Z
DTSTART;TZID=Europe/Prague:20251204T183000
DTEND;TZID=Europe/Prague:20251204T193000
SUMMARY:Evropo\, Belgie\, braňme se! — #MakeRussiaPay
DESCRIPTION:Proč jdeme Důvodem je\, že v prosinci se bude opět rozhodov
 at o budoucnosti Evropy — zda vznikne reparační půjčka na základě z
 mrazených ruských aktiv a zda se budeme schopni díky ní spolu s Ukrajin
 ou bránit. Voláme po dvou krocích\, které jsou neoddělitelné: EU mus
  jednat rozhodně. Všechny členské státy musí být dost odvážné\, 
 aby sdílely břemeno rizika\, které na sebe bere Belgie. Jako Evropané v
  tom nesmíme nechat Belgii samotnou. Vyzýváme belgickou vládu\, aby neb
 lokovala rozhodnutí Rady EU a pod
LOCATION:Náměstí Václava Havla (Piazzetta Národního divadla)
URL:https://voltcesko.org/akce/evropo-belgie-branme-se-makerussiapay
END:VEVENT
END:VCALENDAR
