BEGIN:VCALENDAR
VERSION:2.0
PRODID:-//Volt Europa//Events//EN
CALSCALE:GREGORIAN
METHOD:PUBLISH
BEGIN:VEVENT
UID:diskuze-s-vaclavem-hamplem-1715184000@voltcesko.org
DTSTAMP:20260425T111852Z
DTSTART;TZID=Europe/Prague:20240508T180000
DTEND;TZID=Europe/Prague:20240508T200000
SUMMARY:Diskuze s Václavem Hamplem
DESCRIPTION:Přijď na skleničku s Václavem Hamplem!  Kdo jiný by měl h
 ledat odpovědi na otázky o směřování Evropy než bývalý rektor Univ
 erzity Karlovy a bývalý předseda zahraničního výboru Senátu? Dovoluj
 eme si vás pozvat k otevřené diskuzi o současnosti a budoucnosti EU a r
 oli Česka v rámci Unie. Akce proběhne v  Kavárně na Boršově  ve svá
 teční středu 8.5.2024 od 18 hodin.  Těšíme se na vás!
LOCATION:Kavárna Na Boršově\, Náprstkova 272/10\, 110 00 Staré Město
URL:https://voltcesko.org/akce/diskuze-s-vaclavem-hamplem
END:VEVENT
END:VCALENDAR
